BEGIN:VCALENDAR
VERSION:2.0
PRODID:-//Association of SuDS Authorities - ECPv6.15.17.1//NONSGML v1.0//EN
CALSCALE:GREGORIAN
METHOD:PUBLISH
X-WR-CALNAME:Association of SuDS Authorities
X-ORIGINAL-URL:https://www.suds-authority.org.uk
X-WR-CALDESC:Events for Association of SuDS Authorities
REFRESH-INTERVAL;VALUE=DURATION:PT1H
X-Robots-Tag:noindex
X-PUBLISHED-TTL:PT1H
BEGIN:VTIMEZONE
TZID:Europe/London
BEGIN:DAYLIGHT
TZOFFSETFROM:+0000
TZOFFSETTO:+0100
TZNAME:BST
DTSTART:20210328T010000
END:DAYLIGHT
BEGIN:STANDARD
TZOFFSETFROM:+0100
TZOFFSETTO:+0000
TZNAME:GMT
DTSTART:20211031T010000
END:STANDARD
BEGIN:DAYLIGHT
TZOFFSETFROM:+0000
TZOFFSETTO:+0100
TZNAME:BST
DTSTART:20220327T010000
END:DAYLIGHT
BEGIN:STANDARD
TZOFFSETFROM:+0100
TZOFFSETTO:+0000
TZNAME:GMT
DTSTART:20221030T010000
END:STANDARD
BEGIN:DAYLIGHT
TZOFFSETFROM:+0000
TZOFFSETTO:+0100
TZNAME:BST
DTSTART:20230326T010000
END:DAYLIGHT
BEGIN:STANDARD
TZOFFSETFROM:+0100
TZOFFSETTO:+0000
TZNAME:GMT
DTSTART:20231029T010000
END:STANDARD
END:VTIMEZONE
BEGIN:VEVENT
DTSTART;TZID=Europe/London:20220524T090000
DTEND;TZID=Europe/London:20220524T160000
DTSTAMP:20260424T173700
CREATED:20220429T110117Z
LAST-MODIFIED:20220504T092906Z
UID:1040-1653382800-1653408000@www.suds-authority.org.uk
SUMMARY:ASA National Conference
DESCRIPTION:ASA members entitled to 1 free space with additional guest(s) @ £50\, Non ASA LLFAs £75\, all others £150 \nFind out more here!
URL:https://www.suds-authority.org.uk/event/asa-national-conference/
LOCATION:Horizon Leeds\, 3rd Floor\, 2 Brewery Wharf\, Kendall Street\, Leeds\, West Yorkshire\, LS10 1JR\, United Kingdom
CATEGORIES:Conferences
END:VEVENT
END:VCALENDAR