BEGIN:VCALENDAR
VERSION:2.0
PRODID:-//Association of SuDS Authorities - ECPv6.15.17.1//NONSGML v1.0//EN
CALSCALE:GREGORIAN
METHOD:PUBLISH
X-ORIGINAL-URL:https://www.suds-authority.org.uk
X-WR-CALDESC:Events for Association of SuDS Authorities
REFRESH-INTERVAL;VALUE=DURATION:PT1H
X-Robots-Tag:noindex
X-PUBLISHED-TTL:PT1H
BEGIN:VTIMEZONE
TZID:Europe/London
BEGIN:DAYLIGHT
TZOFFSETFROM:+0000
TZOFFSETTO:+0100
TZNAME:BST
DTSTART:20230326T010000
END:DAYLIGHT
BEGIN:STANDARD
TZOFFSETFROM:+0100
TZOFFSETTO:+0000
TZNAME:GMT
DTSTART:20231029T010000
END:STANDARD
BEGIN:DAYLIGHT
TZOFFSETFROM:+0000
TZOFFSETTO:+0100
TZNAME:BST
DTSTART:20240331T010000
END:DAYLIGHT
BEGIN:STANDARD
TZOFFSETFROM:+0100
TZOFFSETTO:+0000
TZNAME:GMT
DTSTART:20241027T010000
END:STANDARD
BEGIN:DAYLIGHT
TZOFFSETFROM:+0000
TZOFFSETTO:+0100
TZNAME:BST
DTSTART:20250330T010000
END:DAYLIGHT
BEGIN:STANDARD
TZOFFSETFROM:+0100
TZOFFSETTO:+0000
TZNAME:GMT
DTSTART:20251026T010000
END:STANDARD
END:VTIMEZONE
BEGIN:VEVENT
DTSTART;TZID=Europe/London:20241022T090000
DTEND;TZID=Europe/London:20241022T160000
DTSTAMP:20260424T163022
CREATED:20241018T125123Z
LAST-MODIFIED:20241018T125245Z
UID:1152-1729587600-1729612800@www.suds-authority.org.uk
SUMMARY:ASA Conference 2024 - Multifunctional SuDS; turning theory into practice
DESCRIPTION:The Association of Drainage Authorities is pleased to welcome you to our 2024 conference. We have a day full of inspirational and experienced speakers\, and practical workshops to help you better deliver multifunctional SuDS through planning and retrofit” \nGlen and Vikki—ASA co-chairs \n\nWe are excited to announce the details of our upcoming annual conference for 2024 which will focus on – Multifunctional SuDS: turning theory into practice \n We aim to bring you speakers that will both inspire you and provide you with insight into delivering multifunctional SuDS through your local authority duties. \n This year\, the conference will be hosted on 22nd October at the Birmingham Conference & Events Centre\, located in Birmingham city centre\, and a 2 minute walk from Birmingham New Street station. \n The event will run from 9.00am until 4.30pm with refreshments and catering provided throughout the day. \n The day will comprise of a morning of plenary sessions followed by an afternoon of workshop sessions. \n \nTo book your place please click here: ASA Conference 2024 – Multifunctional SuDS; turning theory into practice Tickets\, Tue\, Oct 22\, 2024 at 9:00 AM | Eventbrite
URL:https://www.suds-authority.org.uk/event/asa-conference-2024-multifunctional-suds-turning-theory-into-practice/
LOCATION:Birmingham Conference & Events Centre\, Hill St\, Birmingham\, B5 4EW\, United Kingdom
CATEGORIES:Conferences
ATTACH;FMTTYPE=image/png:https://www.suds-authority.org.uk/wp-content/uploads/2019/10/asa-default-post-image.png
END:VEVENT
END:VCALENDAR