BEGIN:VCALENDAR
VERSION:2.0
PRODID:-//Association of SuDS Authorities - ECPv6.15.17.1//NONSGML v1.0//EN
CALSCALE:GREGORIAN
METHOD:PUBLISH
X-ORIGINAL-URL:https://www.suds-authority.org.uk
X-WR-CALDESC:Events for Association of SuDS Authorities
REFRESH-INTERVAL;VALUE=DURATION:PT1H
X-Robots-Tag:noindex
X-PUBLISHED-TTL:PT1H
BEGIN:VTIMEZONE
TZID:Europe/London
BEGIN:DAYLIGHT
TZOFFSETFROM:+0000
TZOFFSETTO:+0100
TZNAME:BST
DTSTART:20200329T010000
END:DAYLIGHT
BEGIN:STANDARD
TZOFFSETFROM:+0100
TZOFFSETTO:+0000
TZNAME:GMT
DTSTART:20201025T010000
END:STANDARD
BEGIN:DAYLIGHT
TZOFFSETFROM:+0000
TZOFFSETTO:+0100
TZNAME:BST
DTSTART:20210328T010000
END:DAYLIGHT
BEGIN:STANDARD
TZOFFSETFROM:+0100
TZOFFSETTO:+0000
TZNAME:GMT
DTSTART:20211031T010000
END:STANDARD
BEGIN:DAYLIGHT
TZOFFSETFROM:+0000
TZOFFSETTO:+0100
TZNAME:BST
DTSTART:20220327T010000
END:DAYLIGHT
BEGIN:STANDARD
TZOFFSETFROM:+0100
TZOFFSETTO:+0000
TZNAME:GMT
DTSTART:20221030T010000
END:STANDARD
BEGIN:DAYLIGHT
TZOFFSETFROM:+0000
TZOFFSETTO:+0100
TZNAME:BST
DTSTART:20230326T010000
END:DAYLIGHT
BEGIN:STANDARD
TZOFFSETFROM:+0100
TZOFFSETTO:+0000
TZNAME:GMT
DTSTART:20231029T010000
END:STANDARD
END:VTIMEZONE
BEGIN:VEVENT
DTSTART;TZID=Europe/London:20220525T110000
DTEND;TZID=Europe/London:20220525T120000
DTSTAMP:20260424T172119
CREATED:20220429T111101Z
LAST-MODIFIED:20220429T111101Z
UID:1045-1653476400-1653480000@www.suds-authority.org.uk
SUMMARY:Highlights of the Ignition Project Webinar
DESCRIPTION:Since 2019\, the IGNITION project has explored how Greater Manchester can accelerate the delivery of urban nature-based solutions to build a climate resilient city-region. Supported by the Urban Innovations Actions Fund\, the project brought together twelve partners from local government\, universities\, NGOs and business to develop pathways to accelerate public-private investment nature-based solutions. \nOne strand of the project focused on collaborative investment approaches to tackling urban surface water flooding by: \n\nIdentifying hotspots for multi-partner investment in urban SuDS retrofit\nPiloting the development of an urban SuDS neighbourhood including:\n\nDeveloping conceptual SuDS deisgns\nModelling potential benefits to receiving sewer networks and surface water flood risk\nEstimate of likely scheme costs\nBuilding a multi-partner business case\n\n\nTesting a replicable methodology for the adaptation of sewer models to represent SuDS.\n\nThis webinar will present an overview of the IGNITION project and then provide a deep dive into the SuDS neighbourhood pilot focusing on the planning\, modelling and impact evaluation of retrofit SuDS neighbourhood in Walkden\, Salford. \nProgramme \n11:00 Welcome and introduction\nDr Louise Walker\, Senior Research Manager\, CIRIA \n11:05 IGNITION: Accelerating the delivery of urban nature-based solutions in Greater Manchester\nMatt Ellis\, Climate Resilience Lead\, Environment Agency\nRachel Morrison\, Senior Nature Based Solutions Advisor\, Greater Manchester Combined Authority \n11:15  Retrofit SuDS: planning\, conceptual design and cost estimation\nPhil Williams\, Technical Director\, The Environmental Protection Group \n11:40 SuDS retrofit modelling methods and outcomes\nBridget Woods Ballard\, Principal Engineer\, HR Wallingford \n12:05 Interactive discussion and Q&A \n12:25 Closing remarks \nFees CIRIA members: Free to attend Non-members: Free to attend
URL:https://www.suds-authority.org.uk/event/highlights-of-the-ignition-project-webinar/
LOCATION:Virtual Event
CATEGORIES:Seminar,Virtual Events
END:VEVENT
BEGIN:VEVENT
DTSTART;TZID=Europe/London:20220510T140000
DTEND;TZID=Europe/London:20220510T160000
DTSTAMP:20260424T172119
CREATED:20220429T104033Z
LAST-MODIFIED:20220429T104033Z
UID:1035-1652191200-1652198400@www.suds-authority.org.uk
SUMMARY:The National Flood Management Manual Launch Webinar
DESCRIPTION:The natural flood management manual (C802) covers the delivery of NFM from problem identification through conception\, funding\, design\, construction\, inspection\, maintenance\, adaptive management to end-of-life considerations. It is primarily concerned with the ‘where?’ and ‘how?’ of NFM delivery\, rather than ‘why?’ It aims to provide confidence in NFM delivery and ensure the best outcomes\, recognising that innovation in this area is constantly emerging. \nThe manual is intended for use in the UK and is tailored to the geographical settings and conditions of the country\, although it draws on advice and case studies from elsewhere and could be of assistance for overseas projects. \nThe manual covers NFM measures to reduce the risk of flooding from surface water and rivers. It does not include coastal NFM to reduce the risk of tidal or coastal flooding\, guidance for which is available elsewhere. \nDetailed technical advice is given on four key measures which are considered challenging to deliver and with less detailed information already available. Other measures are covered in one-page summaries with signposts to other guidance. \nThis webinar will introduce the manual and provide an overview of its aim\, scope and content. \nProgramme\nClick here to view the full programme with session outlines. \n14:00 Welcome and introduction\nMartin Janes\, Managing Director\, RRC \n14:05 The importance of working with nature right now\nDenise Bower\, Group Executive Board Member\, Climate and Sustainability\,\nMott MacDonald \n14:15 Overview of The natural flood management manual\nLead Author: Emma Wren\, Technical Principal – Nature Based Solutions\nMott MacDonald \nImportance of The natural flood management manual \n14:35 The user’s perspective\nDavid Johnson\, Technical Director\, The Rivers Trust \n14:55 Break \n15:05 The regulator’s perspective (i)\nPhil Foxley\, Programme Manager\, Flood and Coastal Risk Management\nDirectorate\, Environment Agency \n15:15 The regulator’s perspective (ii)\nHeather Forbes\, Senior Policy Officer\, National Flooding Partnerships\,\nScottish Environment Protection Agency \n15:30 The asset owner’s perspective \n15:45 Interactive discussion and Q&A \n16:00 Closing remarks
URL:https://www.suds-authority.org.uk/event/the-national-flood-management-manual-launch-webinar/
LOCATION:Virtual Event
CATEGORIES:Seminar,Virtual Events
END:VEVENT
BEGIN:VEVENT
DTSTART;TZID=Europe/London:20210715T150000
DTEND;TZID=Europe/London:20210715T170000
DTSTAMP:20260424T172119
CREATED:20210709T133821Z
LAST-MODIFIED:20210719T123926Z
UID:809-1626361200-1626368400@www.suds-authority.org.uk
SUMMARY:2021 susdrain SuDS Champion Awards
DESCRIPTION:Discover who will be the 2021 SuDS Champion Awards as we recognise those who inspire\, inform and influence SuDS delivery
URL:https://www.suds-authority.org.uk/event/2021-susdrain-suds-champion-awards/
LOCATION:Virtual Event
CATEGORIES:Virtual Events
END:VEVENT
END:VCALENDAR