BEGIN:VCALENDAR
VERSION:2.0
PRODID:-//Association of SuDS Authorities - ECPv6.15.17.1//NONSGML v1.0//EN
CALSCALE:GREGORIAN
METHOD:PUBLISH
X-WR-CALNAME:Association of SuDS Authorities
X-ORIGINAL-URL:https://www.suds-authority.org.uk
X-WR-CALDESC:Events for Association of SuDS Authorities
REFRESH-INTERVAL;VALUE=DURATION:PT1H
X-Robots-Tag:noindex
X-PUBLISHED-TTL:PT1H
BEGIN:VTIMEZONE
TZID:Europe/London
BEGIN:DAYLIGHT
TZOFFSETFROM:+0000
TZOFFSETTO:+0100
TZNAME:BST
DTSTART:20200329T010000
END:DAYLIGHT
BEGIN:STANDARD
TZOFFSETFROM:+0100
TZOFFSETTO:+0000
TZNAME:GMT
DTSTART:20201025T010000
END:STANDARD
BEGIN:DAYLIGHT
TZOFFSETFROM:+0000
TZOFFSETTO:+0100
TZNAME:BST
DTSTART:20210328T010000
END:DAYLIGHT
BEGIN:STANDARD
TZOFFSETFROM:+0100
TZOFFSETTO:+0000
TZNAME:GMT
DTSTART:20211031T010000
END:STANDARD
BEGIN:DAYLIGHT
TZOFFSETFROM:+0000
TZOFFSETTO:+0100
TZNAME:BST
DTSTART:20220327T010000
END:DAYLIGHT
BEGIN:STANDARD
TZOFFSETFROM:+0100
TZOFFSETTO:+0000
TZNAME:GMT
DTSTART:20221030T010000
END:STANDARD
BEGIN:DAYLIGHT
TZOFFSETFROM:+0000
TZOFFSETTO:+0100
TZNAME:BST
DTSTART:20230326T010000
END:DAYLIGHT
BEGIN:STANDARD
TZOFFSETFROM:+0100
TZOFFSETTO:+0000
TZNAME:GMT
DTSTART:20231029T010000
END:STANDARD
END:VTIMEZONE
BEGIN:VEVENT
DTSTART;TZID=Europe/London:20220125T110000
DTEND;TZID=Europe/London:20220125T120000
DTSTAMP:20260424T185151
CREATED:20211230T111906Z
LAST-MODIFIED:20211230T111906Z
UID:978-1643108400-1643112000@www.suds-authority.org.uk
SUMMARY:Urban reforestation as effective climate change mitigation
DESCRIPTION:Wide-ranging presentation covering urban tree planting\, sustainable drainage systems and green wall planting specifically designed to not only help adapt to climate change but to create safer\, cleaner\, and healthier towns and cities for future generations. \nSpecies choice\, best practice planting methods and incorporation of sustainable drainage systems open new possibilities that will enhance our towns and cities\, making them resilient\, future-proofed\, and simply more pleasant. \nUrban biodiversity will also be covered in this session – a matter of concern to many local authorities who desire to re-wild our towns\, bringing in flora and fauna that may have flourished in the past\, but have been reduced by the removal of natural habitat. \nLearning outcomes: \n\nUnderstanding different tree planting methodologies\, and how effective they are\nImportance of retro-fitting SuDS systems which are multi-functional to make urban areas resilient\nAlternative ways to green screen vertical walls\, and the advantages to the built environment\n\nFind out more here.
URL:https://www.suds-authority.org.uk/event/urban-reforestation-as-effective-climate-change-mitigation/
LOCATION:Virtual Event
CATEGORIES:Virtual Events
END:VEVENT
BEGIN:VEVENT
DTSTART;TZID=Europe/London:20211110T180000
DTEND;TZID=Europe/London:20211110T190000
DTSTAMP:20260424T185151
CREATED:20211028T142608Z
LAST-MODIFIED:20211028T142608Z
UID:937-1636567200-1636570800@www.suds-authority.org.uk
SUMMARY:LIEM: Natural Flood Management - an urban perspective
DESCRIPTION:Natural Flood Management (NFM) involves slowing the flow of water from rural headwater streams to reduce flood risk in downstream urban areas. But how natural is ‘natural’ flood management’ and is there a place for it in urban green spaces? This talk will explore the scientific basis behind NFM and highlight some of the challenges of introducing ’natural’ to the urban water environment\, with reference to recent case studies. The talk should be of interested to landscape architects\, ecologists and flood risk management professionals involved in the management of urban green spaces.
URL:https://www.suds-authority.org.uk/event/liem-natural-flood-management-an-urban-perspective/
LOCATION:Virtual Event
CATEGORIES:Virtual Events
END:VEVENT
BEGIN:VEVENT
DTSTART;TZID=Europe/London:20210622T110000
DTEND;TZID=Europe/London:20210622T120000
DTSTAMP:20260424T185151
CREATED:20210527T150307Z
LAST-MODIFIED:20210527T150307Z
UID:758-1624359600-1624363200@www.suds-authority.org.uk
SUMMARY:The RootSpace Story In Conversation with Dean Bowie. Presented by GreenBlue urban
DESCRIPTION:About this event\n\n\nThey are often asked what is RootSpace and how did it come to market. \nUnsurprising\, it starts with trees. It is difficult to imagine life without them\, they are also complex organisms\, interacting with their surroundings in many ways – the living lungs of the planet. \nThis story (of soil cells) is 20 years young and during this presentation we will share the experiences\, the exciting moments\, the breakthrough events which led to the creation of the most advanced urban tree pit system available. \n  \nLearning outcomes: \n\nLook at the forest floor environment which is where trees do best – healthy uncompacted soil. Compared to the built environment where they are most needed for shade\, water management\, air quality and so many other ecosystem benefits.\nHead back to 1992 when formally known as Greenleaf\, to the present day as innovation continues. Hear an interview with our founder who experienced frustration with high mortality rates of newly planted trees\, who then developed products to aide irrigation and root management to enable tree establishment.\nLook back at successful case studies\, with extracts from clients and designers from across the globe.\n\n\n\nClick here to find out more and register
URL:https://www.suds-authority.org.uk/event/the-rootspace-story-in-conversation-with-dean-bowie-presented-by-greenblue-urban/
LOCATION:Virtual Event
CATEGORIES:Educational,Virtual Events
END:VEVENT
BEGIN:VEVENT
DTSTART;TZID=Europe/London:20210608T183000
DTEND;TZID=Europe/London:20210608T200000
DTSTAMP:20260424T185151
CREATED:20210527T145305Z
LAST-MODIFIED:20210527T155712Z
UID:749-1623177000-1623182400@www.suds-authority.org.uk
SUMMARY:LIYHB AGM - The Future of Urban Landscape
DESCRIPTION:The Landscape Institute Yorkshire & Humber Branch will hold its Annual General Meeting at 18.45 on 8th June online. Registration will be open from 18.30 – please arrive in plenty of time in order to register your attendance. \nThe AGM will proceed an address by LI president Jane Findlay and Vice President Carolin Gohler\, which will be followed by a presentation by PWP Design of their ‘My Third Place’ project\, created in response to the Landscape Institute’s International competition ‘Transforming the Urban Landscape’ \nAGENDA\n\nWelcoming address from Branch Chair\nLandscape Institute Branch update\nVote to approve the minutes of the LIYHB AGM held on 16 May 2019\nReport from Branch Treasurer\nVote to elect Branch Committee\nAny other business\nClose\n\nSUPPORTING EVENT\n\nLI President and Vice President address\nTransforming the Urban Landscape Presentation\nDiscussion with Q&A about the future of Urban Landscape\n\nAll positions on the branch committee are up for election. This year we are especially keen to fill the following uncontested position: \n\nBranch Representative\n\nTo find out more and register click here.
URL:https://www.suds-authority.org.uk/event/liyhb-agm-the-future-of-urban-landscape/
LOCATION:Virtual Event
CATEGORIES:Educational,Networking,Virtual Events
END:VEVENT
END:VCALENDAR