BEGIN:VCALENDAR
VERSION:2.0
PRODID:-//Association of SuDS Authorities - ECPv6.15.17.1//NONSGML v1.0//EN
CALSCALE:GREGORIAN
METHOD:PUBLISH
X-WR-CALNAME:Association of SuDS Authorities
X-ORIGINAL-URL:https://www.suds-authority.org.uk
X-WR-CALDESC:Events for Association of SuDS Authorities
REFRESH-INTERVAL;VALUE=DURATION:PT1H
X-Robots-Tag:noindex
X-PUBLISHED-TTL:PT1H
BEGIN:VTIMEZONE
TZID:Europe/London
BEGIN:DAYLIGHT
TZOFFSETFROM:+0000
TZOFFSETTO:+0100
TZNAME:BST
DTSTART:20200329T010000
END:DAYLIGHT
BEGIN:STANDARD
TZOFFSETFROM:+0100
TZOFFSETTO:+0000
TZNAME:GMT
DTSTART:20201025T010000
END:STANDARD
BEGIN:DAYLIGHT
TZOFFSETFROM:+0000
TZOFFSETTO:+0100
TZNAME:BST
DTSTART:20210328T010000
END:DAYLIGHT
BEGIN:STANDARD
TZOFFSETFROM:+0100
TZOFFSETTO:+0000
TZNAME:GMT
DTSTART:20211031T010000
END:STANDARD
BEGIN:DAYLIGHT
TZOFFSETFROM:+0000
TZOFFSETTO:+0100
TZNAME:BST
DTSTART:20220327T010000
END:DAYLIGHT
BEGIN:STANDARD
TZOFFSETFROM:+0100
TZOFFSETTO:+0000
TZNAME:GMT
DTSTART:20221030T010000
END:STANDARD
BEGIN:DAYLIGHT
TZOFFSETFROM:+0000
TZOFFSETTO:+0100
TZNAME:BST
DTSTART:20230326T010000
END:DAYLIGHT
BEGIN:STANDARD
TZOFFSETFROM:+0100
TZOFFSETTO:+0000
TZNAME:GMT
DTSTART:20231029T010000
END:STANDARD
END:VTIMEZONE
BEGIN:VEVENT
DTSTART;TZID=Europe/London:20220310T130000
DTEND;TZID=Europe/London:20220310T140000
DTSTAMP:20260424T193928
CREATED:20220303T135415Z
LAST-MODIFIED:20220303T135415Z
UID:995-1646917200-1646920800@www.suds-authority.org.uk
SUMMARY:The British Water how to Guide: Applying the CIRIA SuDS Manual (C753)
DESCRIPTION:In partnership with British Water\, we are proud to host a webinar following the release of the Sustainable Water Management Focus Group’s new publication “How to Guide: Applying the CIRIA SuDS Manual (C753) Simple Index Approach to Proprietary/Manufactured Stormwater Treatment Devices”. \nThe guide is intended to help designers and specifiers to interpret results from the main recognised UK and international test methods or verification programmes at the time of publication and apply these to the Simple Index Approach (SIA) as defined within Chapter 26 of The SuDS Manual (C753). \nThe webinar will provide an overview of the aim\, objectives\, purpose and use of the guide and special panel Q&A with the authors of the guide. \n\nDavid Smoker\, ACO\nDaniel Jarman\, Hydro International\nJessica Jefferys\, Innovyze\nJo Bradley\, SDS and Stormwater Shepherds\n\nIf you’re interested but not able to attend this live webinar\, register and we’ll send you a link to the recording!
URL:https://www.suds-authority.org.uk/event/the-british-water-how-to-guide-applying-the-ciria-suds-manual-c753/
LOCATION:Virtual Event
CATEGORIES:Seminar,Virtual Events
END:VEVENT
BEGIN:VEVENT
DTSTART;TZID=Europe/London:20210831T170000
DTEND;TZID=Europe/London:20210831T190000
DTSTAMP:20260424T193928
CREATED:20210730T094425Z
LAST-MODIFIED:20210730T094425Z
UID:850-1630429200-1630436400@www.suds-authority.org.uk
SUMMARY:Day in the Life: Effects of Live Storm modeling on a Utilities Operations
DESCRIPTION:
URL:https://www.suds-authority.org.uk/event/day-in-the-life-effects-of-live-storm-modeling-on-a-utilities-operations/
LOCATION:Virtual Event
CATEGORIES:Educational,Virtual Events
END:VEVENT
BEGIN:VEVENT
DTSTART;TZID=Europe/London:20210805T130000
DTEND;TZID=Europe/London:20210805T170000
DTSTAMP:20260424T193928
CREATED:20210730T084853Z
LAST-MODIFIED:20210730T094705Z
UID:843-1628168400-1628182800@www.suds-authority.org.uk
SUMMARY:Bricks & Water Building Resilience
DESCRIPTION:This webinar will showcase the work of cross party think tank\, Policy Connect\, and showcase the findings of their report\, Bricks and Water: Building Resilience for England’s Homes.
URL:https://www.suds-authority.org.uk/event/bricks-water-building-resilience/
LOCATION:Virtual Event
CATEGORIES:Educational,Seminar,Virtual Events
END:VEVENT
BEGIN:VEVENT
DTSTART;TZID=Europe/London:20210715T130000
DTEND;TZID=Europe/London:20210715T140000
DTSTAMP:20260424T193928
CREATED:20210709T133359Z
LAST-MODIFIED:20210719T122932Z
UID:807-1626354000-1626357600@www.suds-authority.org.uk
SUMMARY:Drainage Design Implementation Series: Design Construction Guidance (DCG) Impact One Year On
DESCRIPTION:Drainage Design Implementation Series: Design Construction Guidance (DCG) Impact One Year On
URL:https://www.suds-authority.org.uk/event/drainage-design-implementation-series-design-construction-guidance-dcg-impact-one-year-on/
LOCATION:Virtual Event
CATEGORIES:Seminar,Virtual Events
END:VEVENT
BEGIN:VEVENT
DTSTART;TZID=Europe/London:20210608T160000
DTEND;TZID=Europe/London:20210608T170000
DTSTAMP:20260424T193928
CREATED:20210527T150538Z
LAST-MODIFIED:20210528T143315Z
UID:759-1623168000-1623171600@www.suds-authority.org.uk
SUMMARY:Water Talk Live- InfoDrainage- BMP\, Green Infrastructure & Pollutant Modelling
DESCRIPTION:Low impact development (LID) modeling is an innovative approach to stormwater management that\, when executed correctly\, can result in significant environmental and economic benefits. As utilities have begun to prioritize green infrastructure techniques\, successful LID modeling has come into high demand. \nIn this Water Talk\, we’ll be taking a deeper dive into some of the BMP and LID templates that come with InfoDrainage\, and how to develop new ones to fit your needs. \nAdditionally\, we’ll look at setting up pollutants in the model and the routines for removing them so that you’d be able to optimize the placement of your green infrastructure to make sure your design is efficient as possible. \nFind out more and register for upcoming Water Talks here.
URL:https://www.suds-authority.org.uk/event/water-talk-live-infodrainage-bmp-green-infrastructure-pollutant-modelling/
LOCATION:Virtual Event
CATEGORIES:Educational,Virtual Events
END:VEVENT
END:VCALENDAR