BEGIN:VCALENDAR
VERSION:2.0
PRODID:-//Association of SuDS Authorities - ECPv6.15.17.1//NONSGML v1.0//EN
CALSCALE:GREGORIAN
METHOD:PUBLISH
X-ORIGINAL-URL:https://www.suds-authority.org.uk
X-WR-CALDESC:Events for Association of SuDS Authorities
REFRESH-INTERVAL;VALUE=DURATION:PT1H
X-Robots-Tag:noindex
X-PUBLISHED-TTL:PT1H
BEGIN:VTIMEZONE
TZID:Europe/London
BEGIN:DAYLIGHT
TZOFFSETFROM:+0000
TZOFFSETTO:+0100
TZNAME:BST
DTSTART:20200329T010000
END:DAYLIGHT
BEGIN:STANDARD
TZOFFSETFROM:+0100
TZOFFSETTO:+0000
TZNAME:GMT
DTSTART:20201025T010000
END:STANDARD
BEGIN:DAYLIGHT
TZOFFSETFROM:+0000
TZOFFSETTO:+0100
TZNAME:BST
DTSTART:20210328T010000
END:DAYLIGHT
BEGIN:STANDARD
TZOFFSETFROM:+0100
TZOFFSETTO:+0000
TZNAME:GMT
DTSTART:20211031T010000
END:STANDARD
BEGIN:DAYLIGHT
TZOFFSETFROM:+0000
TZOFFSETTO:+0100
TZNAME:BST
DTSTART:20220327T010000
END:DAYLIGHT
BEGIN:STANDARD
TZOFFSETFROM:+0100
TZOFFSETTO:+0000
TZNAME:GMT
DTSTART:20221030T010000
END:STANDARD
END:VTIMEZONE
BEGIN:VEVENT
DTSTART;TZID=Europe/London:20211109T090000
DTEND;TZID=Europe/London:20211110T170000
DTSTAMP:20260424T172923
CREATED:20210131T131255Z
LAST-MODIFIED:20210208T133926Z
UID:657-1636448400-1636563600@www.suds-authority.org.uk
SUMMARY:Floodex 2021
DESCRIPTION:9 & 10 November 2021\nExCel\, London \nFLOODEX UK is the trade event for the flood risk\, sustainable drainage\, and water level management sector. This leading sector event is organised in partnership with ADA. \nAlongside the trade show and seminars ADA will be hosting a FLOODEX Networking Dinner.
URL:https://www.suds-authority.org.uk/event/floodex-2021/
LOCATION:ExCel\, London\, Royal Victoria Dock\, 1 Western Gateway\, Royal Docks\, London\, E16 1XL\, United Kingdom
CATEGORIES:Conferences,Exhibitions
GEO:51.508841714693;0.029745087161137
X-APPLE-STRUCTURED-LOCATION;VALUE=URI;X-ADDRESS=ExCel London Royal Victoria Dock 1 Western Gateway Royal Docks London E16 1XL United Kingdom;X-APPLE-RADIUS=500;X-TITLE=Royal Victoria Dock\, 1 Western Gateway\, Royal Docks:geo:0.029745087161137,51.508841714693
END:VEVENT
END:VCALENDAR