BEGIN:VCALENDAR
VERSION:2.0
PRODID:-//Association of SuDS Authorities - ECPv6.15.17.1//NONSGML v1.0//EN
CALSCALE:GREGORIAN
METHOD:PUBLISH
X-WR-CALNAME:Association of SuDS Authorities
X-ORIGINAL-URL:https://www.suds-authority.org.uk
X-WR-CALDESC:Events for Association of SuDS Authorities
REFRESH-INTERVAL;VALUE=DURATION:PT1H
X-Robots-Tag:noindex
X-PUBLISHED-TTL:PT1H
BEGIN:VTIMEZONE
TZID:Europe/London
BEGIN:DAYLIGHT
TZOFFSETFROM:+0000
TZOFFSETTO:+0100
TZNAME:BST
DTSTART:20200329T010000
END:DAYLIGHT
BEGIN:STANDARD
TZOFFSETFROM:+0100
TZOFFSETTO:+0000
TZNAME:GMT
DTSTART:20201025T010000
END:STANDARD
BEGIN:DAYLIGHT
TZOFFSETFROM:+0000
TZOFFSETTO:+0100
TZNAME:BST
DTSTART:20210328T010000
END:DAYLIGHT
BEGIN:STANDARD
TZOFFSETFROM:+0100
TZOFFSETTO:+0000
TZNAME:GMT
DTSTART:20211031T010000
END:STANDARD
BEGIN:DAYLIGHT
TZOFFSETFROM:+0000
TZOFFSETTO:+0100
TZNAME:BST
DTSTART:20220327T010000
END:DAYLIGHT
BEGIN:STANDARD
TZOFFSETFROM:+0100
TZOFFSETTO:+0000
TZNAME:GMT
DTSTART:20221030T010000
END:STANDARD
BEGIN:DAYLIGHT
TZOFFSETFROM:+0000
TZOFFSETTO:+0100
TZNAME:BST
DTSTART:20230326T010000
END:DAYLIGHT
BEGIN:STANDARD
TZOFFSETFROM:+0100
TZOFFSETTO:+0000
TZNAME:GMT
DTSTART:20231029T010000
END:STANDARD
END:VTIMEZONE
BEGIN:VEVENT
DTSTART;TZID=Europe/London:20220908T100000
DTEND;TZID=Europe/London:20220908T120000
DTSTAMP:20260424T173944
CREATED:20220826T082849Z
LAST-MODIFIED:20220826T082849Z
UID:1078-1662631200-1662638400@www.suds-authority.org.uk
SUMMARY:Sustainable Water Management Focus Group
DESCRIPTION:This Focus Group has been formed to provide manufacturers/suppliers with a route through which to monitor and lobby in relation to\, the development of SUDS Regulations and to promote engineered SUDS components within the overall design and application of SUDS. \nThe Focus Group works with the environmental regulators to develop and publish guidance information and to disseminate the information to planners\, developers\, and regulators.
URL:https://www.suds-authority.org.uk/event/sustainable-water-management-focus-group-2/
LOCATION:Virtual Event
CATEGORIES:Virtual Events
END:VEVENT
BEGIN:VEVENT
DTSTART;TZID=Europe/London:20220412T110000
DTEND;TZID=Europe/London:20220412T124500
DTSTAMP:20260424T173944
CREATED:20220405T123600Z
LAST-MODIFIED:20220405T123600Z
UID:1008-1649761200-1649767500@www.suds-authority.org.uk
SUMMARY:Northumbrian Water Liason Meeting - UK Forum Liaison Meeting - Virtual
DESCRIPTION:UK Forum Liaison Meetings are held with major players in the sector. These include meetings with water company representatives where an overview of the water company’s structure is provided as well as an update on their capital delivery and asset management programme\, procurement processes and much more. This Liaison Meeting is with Northumbrian Water. \nMembers are invited to submit questions\, in advance of the meeting\, regardless of whether they can attend as they will take priority on the day. The deadline for pre-submitted questions is Friday 8 April 12.00pm.
URL:https://www.suds-authority.org.uk/event/northumbrian-water-liason-meeting-uk-forum-liaison-meeting-virtual/
LOCATION:Virtual Event
CATEGORIES:Conferences,Virtual Events
END:VEVENT
BEGIN:VEVENT
DTSTART;TZID=Europe/London:20220303T100000
DTEND;TZID=Europe/London:20220303T120000
DTSTAMP:20260424T173944
CREATED:20220303T133508Z
LAST-MODIFIED:20220303T133508Z
UID:987-1646301600-1646308800@www.suds-authority.org.uk
SUMMARY:Sustainable Water Management Focus Group
DESCRIPTION:This Focus Group has been formed to provide manufacturers/suppliers with a route through which to monitor and lobby in relation to\, the development of SUDS Regulations and to promote engineered SUDS components within the overall design and application of SUDS. \nThe Focus Group works with the environmental regulators to develop and publish guidance information and to disseminate the information to planners\, developers\, and regulators.
URL:https://www.suds-authority.org.uk/event/sustainable-water-management-focus-group/
LOCATION:Virtual Event
CATEGORIES:Seminar,Virtual Events
END:VEVENT
BEGIN:VEVENT
DTSTART;TZID=Europe/London:20211201T100000
DTEND;TZID=Europe/London:20211201T120000
DTSTAMP:20260424T173944
CREATED:20211124T163937Z
LAST-MODIFIED:20211124T163937Z
UID:952-1638352800-1638360000@www.suds-authority.org.uk
SUMMARY:Sustainable Water Management Focus Group - Members only
DESCRIPTION:This Focus Group has been formed to provide manufacturers/suppliers with a route through which to monitor and lobby in relation to\, the development of SUDS Regulations and to promote engineered SUDS components within the overall design and application of SUDS. \nThe Focus Group works with the environmental regulators to develop and publish guidance information and to disseminate the information to planners\, developers\, and regulators.
URL:https://www.suds-authority.org.uk/event/sustainable-water-management-focus-group-members-only/
LOCATION:Virtual Event
CATEGORIES:Virtual Events
END:VEVENT
BEGIN:VEVENT
DTSTART;TZID=Europe/London:20210909T100000
DTEND;TZID=Europe/London:20210909T120000
DTSTAMP:20260424T173944
CREATED:20210902T131435Z
LAST-MODIFIED:20210902T140907Z
UID:857-1631181600-1631188800@www.suds-authority.org.uk
SUMMARY:Sustainable Water Management Focus Group Meeting
DESCRIPTION:This Focus Group has been formed to provide manufacturers/suppliers with a route through which to monitor and lobby in relation to\, the development of SUDS Regulations and to promote engineered SUDS components within the overall design and application of SUDS. The Focus Group works with the environmental regulators to develop and publish guidance information and to disseminate the information to planners\, developers\, and regulators.
URL:https://www.suds-authority.org.uk/event/sustainable-water-management-focus-group-meeting-2/
LOCATION:Virtual Event
CATEGORIES:Virtual Events
END:VEVENT
BEGIN:VEVENT
DTSTART;TZID=Europe/London:20210729T120000
DTEND;TZID=Europe/London:20210729T131500
DTSTAMP:20260424T173944
CREATED:20210709T135039Z
LAST-MODIFIED:20210712T080216Z
UID:817-1627560000-1627564500@www.suds-authority.org.uk
SUMMARY:Spotlight Session with Sarah Bentley
DESCRIPTION:Following British Water’s Liaison Meeting and the Thames Water Supplier Summit\, we are delighted to announce our Spotlight Session with Sarah Bentley\, CEO\, Thames Water. Thames Water’s Supplier Summit led to a tactical change in Thames’ approach to engaging with the supply chain and brought their Commercial; Research\, Development & Innovation (RD&I); and Engineering teams together. Register now to learn more about Thames’ future strategy and how you can work more closely with Thames on future projects.
URL:https://www.suds-authority.org.uk/event/spotlight-session-with-sarah-bentley/
LOCATION:Virtual Event
CATEGORIES:Conferences,Virtual Events
END:VEVENT
BEGIN:VEVENT
DTSTART;TZID=Europe/London:20210625T120000
DTEND;TZID=Europe/London:20210625T130000
DTSTAMP:20260424T173944
CREATED:20210527T144706Z
LAST-MODIFIED:20210527T155148Z
UID:745-1624622400-1624626000@www.suds-authority.org.uk
SUMMARY:2021 Insight Briefings: Session 6 - Latest water & wastewater developments
DESCRIPTION:Join the British Water ‘2021 Insight Briefing: Session 6’ to hear from industry leaders and peers on the latest water and wastewater developments and to share views and insights. \nSpeakers will be: \n– John Davies (Chief Information Officer\, MOSL)\n– Mark Froggatt (Chief Engineer\, Anglian Water)\n– Jamie Mills (Chair\, BIM4Water) \nThese briefings are for members and non members. \n​Please note that registration closes on Thursday 24 June at 4.00pm.\nThe meeting details will be sent to those who have registered to attend a day prior to the event. \nClick here to find out more and register
URL:https://www.suds-authority.org.uk/event/2021-insight-briefings-session-6-latest-water-wastewater-developments/
LOCATION:Virtual Event
CATEGORIES:Educational,Virtual Events
END:VEVENT
BEGIN:VEVENT
DTSTART;TZID=Europe/London:20210617T110000
DTEND;TZID=Europe/London:20210617T130000
DTSTAMP:20260424T173944
CREATED:20210527T150735Z
LAST-MODIFIED:20210527T150735Z
UID:763-1623927600-1623934800@www.suds-authority.org.uk
SUMMARY:Micro Pollutants Focus Group Meeting
DESCRIPTION:While novel technologies are been developed\, combinations of existing technologies are expected to offer the most viable solutions to mitigate against emerging pollutants. This is an interesting and timely area of water and wastewater treatment alike; progress will undoubtedly assist in the abatement of those compounds and alliance\, this focus group aims to encourage innovation in this growing area of the UK water market. This meeting will be focused on pharmaceuticals\, latest technologies and challenges. \nClick here to find out more and register
URL:https://www.suds-authority.org.uk/event/micro-pollutants-focus-group-meeting/
LOCATION:Virtual Event
CATEGORIES:Educational,Virtual Events
END:VEVENT
BEGIN:VEVENT
DTSTART;TZID=Europe/London:20210615T091500
DTEND;TZID=Europe/London:20210615T110000
DTSTAMP:20260424T173944
CREATED:20210527T151042Z
LAST-MODIFIED:20210528T145612Z
UID:770-1623748500-1623754800@www.suds-authority.org.uk
SUMMARY:Thames Water Liaison Meeting
DESCRIPTION:UK Forum Liaison Meetings are held with major players in the sector. These include meetings with water company representatives where an overview of the water company’s structure is provided as well as an update on their capital delivery and asset management programme and much more. \nClick here to find out more and register
URL:https://www.suds-authority.org.uk/event/thames-water-liaison-meeting/
LOCATION:Virtual Event
CATEGORIES:Virtual Events
END:VEVENT
BEGIN:VEVENT
DTSTART;TZID=Europe/London:20210609T100000
DTEND;TZID=Europe/London:20210609T120000
DTSTAMP:20260424T173944
CREATED:20210527T151300Z
LAST-MODIFIED:20210527T155810Z
UID:768-1623232800-1623240000@www.suds-authority.org.uk
SUMMARY:Sustainable Water Management Focus Group Meeting
DESCRIPTION:This Sustainable Water Management Focus Group Meeting has been formed to provide manufacturers/suppliers with a route through which to monitor and lobby in relation to\, the development of SUDS Regulations and to promote engineered SUDS components within the overall design and application of SUDS. The Focus Group works with the environmental regulators to develop and publish guidance information and to disseminate the information to planners\, developers\, and regulators. \nFind more about this event and register here.
URL:https://www.suds-authority.org.uk/event/sustainable-water-management-focus-group-meeting/
CATEGORIES:Networking
END:VEVENT
END:VCALENDAR