BEGIN:VCALENDAR
VERSION:2.0
PRODID:-//Association of SuDS Authorities - ECPv6.15.17.1//NONSGML v1.0//EN
CALSCALE:GREGORIAN
METHOD:PUBLISH
X-ORIGINAL-URL:https://www.suds-authority.org.uk
X-WR-CALDESC:Events for Association of SuDS Authorities
REFRESH-INTERVAL;VALUE=DURATION:PT1H
X-Robots-Tag:noindex
X-PUBLISHED-TTL:PT1H
BEGIN:VTIMEZONE
TZID:Europe/London
BEGIN:DAYLIGHT
TZOFFSETFROM:+0000
TZOFFSETTO:+0100
TZNAME:BST
DTSTART:20200329T010000
END:DAYLIGHT
BEGIN:STANDARD
TZOFFSETFROM:+0100
TZOFFSETTO:+0000
TZNAME:GMT
DTSTART:20201025T010000
END:STANDARD
BEGIN:DAYLIGHT
TZOFFSETFROM:+0000
TZOFFSETTO:+0100
TZNAME:BST
DTSTART:20210328T010000
END:DAYLIGHT
BEGIN:STANDARD
TZOFFSETFROM:+0100
TZOFFSETTO:+0000
TZNAME:GMT
DTSTART:20211031T010000
END:STANDARD
BEGIN:DAYLIGHT
TZOFFSETFROM:+0000
TZOFFSETTO:+0100
TZNAME:BST
DTSTART:20220327T010000
END:DAYLIGHT
BEGIN:STANDARD
TZOFFSETFROM:+0100
TZOFFSETTO:+0000
TZNAME:GMT
DTSTART:20221030T010000
END:STANDARD
END:VTIMEZONE
BEGIN:VEVENT
DTSTART;TZID=Europe/London:20210330T100000
DTEND;TZID=Europe/London:20210330T120000
DTSTAMP:20260425T004319
CREATED:20210131T130908Z
LAST-MODIFIED:20210208T133352Z
UID:653-1617098400-1617105600@www.suds-authority.org.uk
SUMMARY:Water Quality Webinar
DESCRIPTION:With the anticipated changes to the Non-Statutory Technical Standards\, more emphasis on water quality within SuDS and surface water disposal is likely to occur.  Please join us for a webinar where water quality principles\, how to evaluate and other aspects will be discussed. \nSpeakers – TBC. \nJoining instructions – ASA members please email admin@suds-authority.org.uk
URL:https://www.suds-authority.org.uk/event/water-quality-webinar/
LOCATION:Virtual Event
CATEGORIES:Educational,Virtual Events
END:VEVENT
END:VCALENDAR