BEGIN:VCALENDAR
VERSION:2.0
PRODID:-//Association of SuDS Authorities - ECPv6.15.17.1//NONSGML v1.0//EN
CALSCALE:GREGORIAN
METHOD:PUBLISH
X-WR-CALNAME:Association of SuDS Authorities
X-ORIGINAL-URL:https://www.suds-authority.org.uk
X-WR-CALDESC:Events for Association of SuDS Authorities
REFRESH-INTERVAL;VALUE=DURATION:PT1H
X-Robots-Tag:noindex
X-PUBLISHED-TTL:PT1H
BEGIN:VTIMEZONE
TZID:Europe/London
BEGIN:DAYLIGHT
TZOFFSETFROM:+0000
TZOFFSETTO:+0100
TZNAME:BST
DTSTART:20200329T010000
END:DAYLIGHT
BEGIN:STANDARD
TZOFFSETFROM:+0100
TZOFFSETTO:+0000
TZNAME:GMT
DTSTART:20201025T010000
END:STANDARD
BEGIN:DAYLIGHT
TZOFFSETFROM:+0000
TZOFFSETTO:+0100
TZNAME:BST
DTSTART:20210328T010000
END:DAYLIGHT
BEGIN:STANDARD
TZOFFSETFROM:+0100
TZOFFSETTO:+0000
TZNAME:GMT
DTSTART:20211031T010000
END:STANDARD
BEGIN:DAYLIGHT
TZOFFSETFROM:+0000
TZOFFSETTO:+0100
TZNAME:BST
DTSTART:20220327T010000
END:DAYLIGHT
BEGIN:STANDARD
TZOFFSETFROM:+0100
TZOFFSETTO:+0000
TZNAME:GMT
DTSTART:20221030T010000
END:STANDARD
BEGIN:DAYLIGHT
TZOFFSETFROM:+0000
TZOFFSETTO:+0100
TZNAME:BST
DTSTART:20230326T010000
END:DAYLIGHT
BEGIN:STANDARD
TZOFFSETFROM:+0100
TZOFFSETTO:+0000
TZNAME:GMT
DTSTART:20231029T010000
END:STANDARD
END:VTIMEZONE
BEGIN:VEVENT
DTSTART;TZID=Europe/London:20220919T123000
DTEND;TZID=Europe/London:20220919T180000
DTSTAMP:20260424T155642
CREATED:20220826T085658Z
LAST-MODIFIED:20220826T085809Z
UID:1080-1663590600-1663610400@www.suds-authority.org.uk
SUMMARY:Bioretention Research & Practise - Outcomes & impacts of 3 year collaboration research project (Urban Green DaMS)
DESCRIPTION:This free event\, hosted by The University of Sheffield and Newcastle University\, will provide insight into the outcomes and impacts of a three-year collaborative research project (Urban Green DaMS) to improve design parameters for biofilters/raingardens.\n\nLimited places to in-person event\nPlaces are limited and will be allocated on a first-come\, first-served basis. If you are unable to register online\, please email Susan Richards to be added to the wait list. We reserve the right to limit the number of registrations per company.The session will be recorded and made available to anyone unable to attend in person. Please register for the ‘seminar recording’ to be notified when this is available. \nBackground\nDrainage/flood protection engineers need to be able to quantify how SuDS devices respond to rainfall events – including the extreme events that are responsible for flooding – to effectively use SuDS for stormwater management purposes. \nBiofilters (also known as raingardens) manage runoff from catchments typically ten times larger than their own plan area and provide filtration of pollutants associated with road runoff.ly \nThe ’Urban Green DaMS’ project collected data from a combination of full-scale test beds (lysimeters) at Newcastle University and column tests at The University of Sheffield. The data will help understand and quantify the influence of design parameters (growing media composition\, planting selection and outlet control configuration) on the rainfall retention (ET rates) and runoff detention performance (K values and outlet controls) of lined biofilter systems. \nFindings of the three-year EPSRC-funded collaborative research project will be summarised by the researchers and use of the data within modelling for rainwater management will be discussed. \nSuDS practitioners will talk about the impact of this work on design\, implementation\, regulatory targets\, and guidance including incorporation into the forthcoming update of CIRIA’s The SuDS Manual (C753F). They will also provide an overview of important ongoing retrofit SuDS projects. \nSponsorship opportunities\nFor more information about sponsorship opportunities\, please contact Louise Walker. \nWhy attend \n\nLearn how different types of vegetation and outlet controls impact surface water retention and detention in raingardens.\nUnderstand the impact of evapotranspiration and hydraulic conductivity on raingarden performance.\nDiscover how new data on raingarden performance can be included in the most commonly used modelling tools.\nParticipate in discussions on appropriate regulatory targets for surface water management.\nHear about the planned approach to update to The SuDS Manual (C753F) and incorporate knowledge from the latest research and practice..\nGain insight into the evolution of retrofit SuDS from practitioners involved in large-scale projects.\nEarn valuable CPD.\n\nWho should attend\nLead Local Flood Authorities\, Local authority planners\, Local authority highways teams\, Regeneration and redevelopment specialists\, Urban designers\, Engineering consultants\, Landscape architects\, Sewerage undertakers\, Environmental regulators\, Researchers\, SuDS designers\, Environmental organisations\, susdrain partners and supporters. \nWhen\nMonday 19 September 2022\n12:30 – 18:00 \nProgramme\n12:30 Welcome lunch \n13:30 Welcome and introduction\nProfessor Virginia Stovin\, Professor of Green Infrastructure for\nStormwater Management\, The University of Sheffield \n13:45 Effects of different vegetation and outlet controls on retention and detention\nwithin biofilters – lysimeter findings\nDr Daniel Green\, Research Associate: Sustainable Drainage\,\nNewcastle University \n14:00 – Effect of different vegetation on evapotranspiration rates and hydraulic\nconductivity within biofilters – column test findings\nDr Simon De-Ville\, Research Associate\, The University of Sheffield \n14:15 – Reflections on bioretention modelling\nDr Simon De-Ville\, Research Associate\, The University of Sheffield \n14:30 – Modelling SuDS with Autodesk InfoDrainage\nDaniel Yardley\, Product Engineer\, Autodesk \n14:45 – Interactive discussion and Q&A \n15:00 – Networking break \n15:30 – Stormwater management metrics: how do we quantify stormwater\nmanagement performance and what should our regulatory targets be?\nProfessor Virginia Stovin\, Professor of Green Infrastructure for\nStormwater Management\, The University of Sheffield \n15:45 – Updates to the CIRIA SuDS Manual\nBridget Woods-Ballard\, Technical Director\, HR Wallingford \n16:00 – – SuDS Design and Implementation – 20 years on\nZac Tudor\, Associate Landscape Architect\, Arup \n16:15 – Severn Trent Water’s Mansfield retrofitting programme\nJohn Brewington\, Regional Development Manager\, Severn Trent Water \n16:30 – Interactive discussion and Q&A \n16:55 – Closing remarks \n17:00 – Networking drinks \n\n\nFees\nsusdrain partners and supporters Free to attend\nCIRIA members Free to attend\nNon-members Free to attendBooking\nPlease sign in or create an account to register online for this event.\nIf you are experiencing issues registering online\, please complete and return the booking form to Susan Richards.\nAlternatively please contact us on 07933 181 765 or email our Customer Services team.\nConfirmation emails will be sent 10 days before the event. \nNotice for new bookings from EU/EEA customers only\nCIRIA is currently unable to directly process your transaction if you are purchasing from the EU/EEA region. If you wish to book onto this event please email your request to enquiries@ciria.org and we will respond in the first instance. \nTerms and Conditions\nClick here for details of our terms and conditions that will apply.\nPersonal data is gathered in accordance with CIRIA’s privacy policy. \nFurther information\nFor further information on CIRIA membership and other services\, please contact:\nTelephone: 07933 181 765\nEmail: enquiries@ciria.org\nWeb: www.ciria.org
URL:https://www.suds-authority.org.uk/event/bioretention-research-practise-outcomes-impacts-of-3-year-collaboration-research-project-urban-green-dams/
LOCATION:CIRIA\, Griffin Court\, 15 Long Lane\, London\, Warwickshire\, EC1A 9PN\, United Kingdom
CATEGORIES:Educational,Networking,Seminar
ORGANIZER;CN="CIRIA":MAILTO:enquiries@ciria.org
END:VEVENT
BEGIN:VEVENT
DTSTART;TZID=Europe/London:20210722T154500
DTEND;TZID=Europe/London:20210722T183000
DTSTAMP:20260424T155642
CREATED:20210709T134353Z
LAST-MODIFIED:20210719T124254Z
UID:812-1626968700-1626978600@www.suds-authority.org.uk
SUMMARY:Explore Engineering - Winchester Waterways Walk
DESCRIPTION:Winchester\, King Alfred’s capital of Wessex\, is a beautiful cathedral City\, but also has a complicated river system with various interlinked branches of the River Itchen flowing through\, and under the City. \nFollowing serious flooding in 2014 a scheme was built last year to help to manage flooding by control of the river upstream in an and allow flooding in the Nature reserve at Winnall Moors\, a SSSI. \nThe schemes involved creation of a high-risk reservoir in the city centre that is designed not to be an obvious flood defence. \nThe walk will allow you to see the new construction\, but also the nature reserve at Winnall Moors. \nCovid-19 restrictions: we will abide by Government guidance in place at the time of this event or postpone the event to a new date if necessary. Arrangements will be clarified in advance for those people signed up to the event. \nMeet at the Durngate Car-park ( North Walls\, Winchester SO23 8DW) at 15:45 for a 16:00 start and it is about 1 mile around the new works\, but we will also walk around the Nature Reserve and to City Mill\, which as an important part of the scheme making a total of about 4 miles. The scheme was a co-operation between the City Council\, County Council and the Environment Agency. \nThe total length of walk is about 4 miles. The walk is expected to finish about 18:30pm. No specific arrangements have been made for refreshments afterwards\, but there are a variety for pubs and restaurants in the City Centre. \nThis event has been organised by the ICE retired members group\, but all grades of membership\, guests and partners are welcome at this event. If you would like more information about the visit please contact Tim Kermode (tim@tk-coastal.co.uk) Attendance will count towards CPD. \nNumbers will be limited to 20 people so please book through the ICE system. There is no charge for this event.
URL:https://www.suds-authority.org.uk/event/explore-engineering-winchester-waterways-walk/
LOCATION:Winchester Durngate\, North Walls\, Winchester\, SO23 8DW\, United Kingdom
CATEGORIES:Educational,Networking
GEO:51.064877;-1.308885
X-APPLE-STRUCTURED-LOCATION;VALUE=URI;X-ADDRESS=Winchester Durngate North Walls Winchester SO23 8DW United Kingdom;X-APPLE-RADIUS=500;X-TITLE=North Walls:geo:-1.308885,51.064877
END:VEVENT
BEGIN:VEVENT
DTSTART;VALUE=DATE:20210628
DTEND;VALUE=DATE:20210702
DTSTAMP:20260424T155642
CREATED:20210518T144523Z
LAST-MODIFIED:20210518T144746Z
UID:733-1624838400-1625183999@www.suds-authority.org.uk
SUMMARY:Flood & Coast 2021
DESCRIPTION:Day 1 | Mon\, 28 Jun: Delivering Together \nOne Day 1 we share lessons learned from recent flood events and the impact of the COVID-19 pandemic on response and recovery. We explore the critical role of digital technology and local community support networks in building social resilience. \nDay 2 | Tue\, 29 Jun: Future skills\, knowledge and tools / A nation resilient to climate change \nOn Day 2 we showcase our industry’s latest approaches to everything from hydraulics\, modelling and forecasting to nature-based solutions. We celebrate the achievements and leadership of women in the sector and we hear how the five nations are tackling climate change – and what we can learn from one another. \nDay 3 | Wed\, 30 Jun: Creating green and sustainable places \nOn Day 3 we unpack what it takes to create safe\, future-proof spaces and discuss the initiatives paving the way from property flood resilience to sustainable drainage. \nDay 4 | Thu\, 1 Jul: Adaptive planning and thought leadership \nOn Day 4 we discuss how allowing local places to make the right decisions at the right time can lead to real transformation. As COP26 draws nearer\, we call for clear climate change adaptation priorities. \nRegistration Costs \nA one-day ticket is £72 (or £216 for all four days) giving you full access to the conference\, expo and networking areas. Or for £5 you can buy a pass for the expo and networking throughout the event. Full details of speakers\, sessions and how to sign up are here. \nIf you’d like to find out more about exhibition and sponsorship opportunities\, take a look at our brochure or contact irina.danilova@ciwem.org. \nVisit website for more details. \n 
URL:https://www.suds-authority.org.uk/event/flood-coast-2021/
LOCATION:Virtual Event
CATEGORIES:Conferences,Educational,Exhibitions,Networking,Seminar,Virtual Events
END:VEVENT
BEGIN:VEVENT
DTSTART;TZID=Europe/London:20210609T100000
DTEND;TZID=Europe/London:20210609T120000
DTSTAMP:20260424T155642
CREATED:20210527T151300Z
LAST-MODIFIED:20210527T155810Z
UID:768-1623232800-1623240000@www.suds-authority.org.uk
SUMMARY:Sustainable Water Management Focus Group Meeting
DESCRIPTION:This Sustainable Water Management Focus Group Meeting has been formed to provide manufacturers/suppliers with a route through which to monitor and lobby in relation to\, the development of SUDS Regulations and to promote engineered SUDS components within the overall design and application of SUDS. The Focus Group works with the environmental regulators to develop and publish guidance information and to disseminate the information to planners\, developers\, and regulators. \nFind more about this event and register here.
URL:https://www.suds-authority.org.uk/event/sustainable-water-management-focus-group-meeting/
LOCATION:Warwickshire
CATEGORIES:Networking
END:VEVENT
BEGIN:VEVENT
DTSTART;TZID=Europe/London:20210608T183000
DTEND;TZID=Europe/London:20210608T200000
DTSTAMP:20260424T155642
CREATED:20210527T145305Z
LAST-MODIFIED:20210527T155712Z
UID:749-1623177000-1623182400@www.suds-authority.org.uk
SUMMARY:LIYHB AGM - The Future of Urban Landscape
DESCRIPTION:The Landscape Institute Yorkshire & Humber Branch will hold its Annual General Meeting at 18.45 on 8th June online. Registration will be open from 18.30 – please arrive in plenty of time in order to register your attendance. \nThe AGM will proceed an address by LI president Jane Findlay and Vice President Carolin Gohler\, which will be followed by a presentation by PWP Design of their ‘My Third Place’ project\, created in response to the Landscape Institute’s International competition ‘Transforming the Urban Landscape’ \nAGENDA\n\nWelcoming address from Branch Chair\nLandscape Institute Branch update\nVote to approve the minutes of the LIYHB AGM held on 16 May 2019\nReport from Branch Treasurer\nVote to elect Branch Committee\nAny other business\nClose\n\nSUPPORTING EVENT\n\nLI President and Vice President address\nTransforming the Urban Landscape Presentation\nDiscussion with Q&A about the future of Urban Landscape\n\nAll positions on the branch committee are up for election. This year we are especially keen to fill the following uncontested position: \n\nBranch Representative\n\nTo find out more and register click here.
URL:https://www.suds-authority.org.uk/event/liyhb-agm-the-future-of-urban-landscape/
LOCATION:Virtual Event
CATEGORIES:Educational,Networking,Virtual Events
END:VEVENT
END:VCALENDAR